BEGIN:VCALENDAR
VERSION:2.0
PRODID:-//Angela Geissler - ECPv6.15.19//NONSGML v1.0//EN
CALSCALE:GREGORIAN
METHOD:PUBLISH
X-ORIGINAL-URL:https://www.angela-geissler.com
X-WR-CALDESC:Veranstaltungen für Angela Geissler
REFRESH-INTERVAL;VALUE=DURATION:PT1H
X-Robots-Tag:noindex
X-PUBLISHED-TTL:PT1H
BEGIN:VTIMEZONE
TZID:Europe/Berlin
BEGIN:DAYLIGHT
TZOFFSETFROM:+0100
TZOFFSETTO:+0200
TZNAME:CEST
DTSTART:20230326T010000
END:DAYLIGHT
BEGIN:STANDARD
TZOFFSETFROM:+0200
TZOFFSETTO:+0100
TZNAME:CET
DTSTART:20231029T010000
END:STANDARD
BEGIN:DAYLIGHT
TZOFFSETFROM:+0100
TZOFFSETTO:+0200
TZNAME:CEST
DTSTART:20240331T010000
END:DAYLIGHT
BEGIN:STANDARD
TZOFFSETFROM:+0200
TZOFFSETTO:+0100
TZNAME:CET
DTSTART:20241027T010000
END:STANDARD
BEGIN:DAYLIGHT
TZOFFSETFROM:+0100
TZOFFSETTO:+0200
TZNAME:CEST
DTSTART:20250330T010000
END:DAYLIGHT
BEGIN:STANDARD
TZOFFSETFROM:+0200
TZOFFSETTO:+0100
TZNAME:CET
DTSTART:20251026T010000
END:STANDARD
END:VTIMEZONE
BEGIN:VEVENT
DTSTART;TZID=Europe/Berlin:20240302T100000
DTEND;TZID=Europe/Berlin:20240302T120000
DTSTAMP:20260422T200110
CREATED:20240111T084139Z
LAST-MODIFIED:20240111T084141Z
UID:1291-1709373600-1709380800@www.angela-geissler.com
SUMMARY:Mehr Zen wagen
DESCRIPTION:“Mehr“ Zen wagen. Mutig einfach einmal für 2 Stunden in die Welt der Meditation\, des Qigong und des Yoga eintauchen. In unserer hektischen Zeit scheint das einfache Sitzen und vollständig im Moment präsent zu sein eine besondere Herausforderung dazustellen. Immer gibt es etwas zu tun. Vielleicht treibt Dich auch die Sorge etwas zu verpassen. Einfach mal nur sitzen\, nur da sein\, geht das? Hier stehen wir uns manchmal stehen selbst im Weg. Doch wie sagte ein japanischer Zen-Meister: „Sitting like taking a warm bath“ – Meditation kann auch wie ein warmes Bad genossen werden. \n\n\n\nIn diesem Seminar erkunden wir die tiefen Verbindungen zwischen Zen und Tao\, die in China über Jahrhunderte bestanden haben. In dieser Zeit haben sich besondere Meditationspraktiken entwickelt. Im Seminar werden wir einige kennen lernen. Einfach im Körper zu Hause zu sein und dem Geist Raum geben – neugierig eine spielerische Achtsamkeit zu kultivieren\, die es uns erlaubt\, ohne Urteile und Bewertungen einfach im Moment zu sein. \n\n\n\nHier gibt es nichts zu tun und nichts zu erreichen. Einfach nur da sein: „sitting leisurely\, doing nothing“\, und damit den wahren Kern von Zen und Tao zu erfassen. Wie es im Dao de Jing heißt: „Ohne aus der Tür zu gehen\, kennt man die Welt…“ – so laden wir Euch ein\, mit uns auf eine Entdeckungsreise zu gehen. \n\n\n\nEinfach “mehr” Zen leben! Jeden Augenblick aufs Neue\, einfach nur SEIN \n\n\n\nIm Anschluss an die Veranstaltung gibt es die Möglichkeit zum Austausch \n\n\n\nBitte meldet Euch über die Website von Zen integral für die Veranstaltung an
URL:https://www.angela-geissler.com/event/mehr-zen-wagen/
LOCATION:Zen Zentrum Basel\, Untere Rebgasse 27\, 4058 Basel\, Untere Rebgasse 2\, Basel\, Basel\, 4058\, Schweiz
CATEGORIES:Meditation,Seminar
ATTACH;FMTTYPE=image/jpeg:https://www.angela-geissler.com/wp-content/uploads/2024/01/AdobeStock_564342664elefantund-giraffe-e1742995736722.jpeg
ORGANIZER;CN="zen integral":MAILTO:info@peterwidmer.com
END:VEVENT
END:VCALENDAR